BEGIN:VCALENDAR
VERSION:2.0
PRODID:-//MTV Toscana - ECPv6.3.3.1//NONSGML v1.0//EN
CALSCALE:GREGORIAN
METHOD:PUBLISH
X-ORIGINAL-URL:https://www.mtvtoscana.com/en/
X-WR-CALDESC:Events for MTV Toscana
REFRESH-INTERVAL;VALUE=DURATION:PT1H
X-Robots-Tag:noindex
X-PUBLISHED-TTL:PT1H
BEGIN:VTIMEZONE
TZID:Europe/Rome
BEGIN:DAYLIGHT
TZOFFSETFROM:+0100
TZOFFSETTO:+0200
TZNAME:CEST
DTSTART:20240331T010000
END:DAYLIGHT
BEGIN:STANDARD
TZOFFSETFROM:+0200
TZOFFSETTO:+0100
TZNAME:CET
DTSTART:20241027T010000
END:STANDARD
BEGIN:DAYLIGHT
TZOFFSETFROM:+0100
TZOFFSETTO:+0200
TZNAME:CEST
DTSTART:20250330T010000
END:DAYLIGHT
BEGIN:STANDARD
TZOFFSETFROM:+0200
TZOFFSETTO:+0100
TZNAME:CET
DTSTART:20251026T010000
END:STANDARD
END:VTIMEZONE
BEGIN:VEVENT
DTSTART;VALUE=DATE:20240524
DTEND;VALUE=DATE:20250526
DTSTAMP:20260421T230540
CREATED:20250422T174859Z
LAST-MODIFIED:20250422T175325Z
UID:10001401-1716508800-1748217599@www.mtvtoscana.com
SUMMARY:Cantine Aperte - VILLA A SESTA
DESCRIPTION:VILLA A SESTA\nSP 484 NORD\, 24 VILLA A SESTA\, CASTELNUOVO BERARDENGA (SIENA)\n0577359014 – SHOP@VILLASESTA.COM \nWhen: May 24th and 25th 2025 \nEvent: CANTINE APERTE AT VILLA A SESTA \nTasting of 4 wines: \nIGT TOSCANA ROSSO RIPALTELLA \nCHIANTI CLASSICO DOCG IL PALEI \nCHIANTI CLASSICO DOCG RISERVA VILLA A SESTA \nIGT TOSCANA ROSSO VAS \nBRUSCHETTE TASTING WITH EXTRA VIRGIN OLIVE OIL OF OUR PRODUCTION \nReservation is required: 0577/359014 – shop@villasesta.com \nOther useful tips: for children\, bruschetta with extra virgin olive oil. (Children do not pay). \nPrice per person: 25\,00€
URL:https://www.mtvtoscana.com/en/evento/cantine-aperte-villa-a-sesta/
LOCATION:VILLA A SESTA\, SP 484 NORD\, 24\, Castelnuovo Berardenga\, Siena\, 53019\, Italia
CATEGORIES:CANTINE APERTE
ATTACH;FMTTYPE=image/png:https://www.mtvtoscana.com/wp-content/uploads/2025/04/8.png
END:VEVENT
BEGIN:VEVENT
DTSTART;VALUE=DATE:20241201
DTEND;VALUE=DATE:20250101
DTSTAMP:20260421T230540
CREATED:20241122T135735Z
LAST-MODIFIED:20241122T141001Z
UID:10000594-1733011200-1735689599@www.mtvtoscana.com
SUMMARY:Cantine Aperte a Natale - LA MALIOSA
DESCRIPTION:FATTORIA LA MALIOSA\nLocalità podere Monte Cavallo\, Saturnia (GR)\n3271860416 – info@fattorialamaliosa.it\nwww.fattorialamaliosa.it\n\nEvents: Christmas Tasting & Regali Green \nWhen: From 1st to 31 December 2024 \nChristmas Tasting \nChristmas Tasting is a refined tasting experience\, where the fireplace becomes an integral part of the sensory journey. In a welcoming and refined environment\, decorated for the Christmas holidays\, you can savor our orange wines and pumpkin-based dishes\, designed to enhance the flavors through the atmosphere created by the fireplace. The heat of the fire adds a unique dimension and makes the experience convivial and relaxing. Ideal for those looking for a different tasting\, in a context that combines comfort and quality. \nEvent suitable also for kids ! \nPrice per person: 29€ \nReservation is required: info@fattorialamaliosa.it / +39 3271860416 \n\nEco gifts \nEvery product purchased during the Christmas time\, oil or wine\, will be packaged with a special honeycomb paper.
URL:https://www.mtvtoscana.com/en/evento/cantine-aperte-a-natale-la-maliosa/
LOCATION:LA MALIOSA\, Fattoria La Maliosa - Natural Wines\, fraz. di\, Località Podere Monte Cavallo\, 58014 Saturnia GR\, Saturnia\, Grosseto\, 58014\, Italia
CATEGORIES:CANTINE APERTE NATALE
ATTACH;FMTTYPE=image/png:https://www.mtvtoscana.com/wp-content/uploads/2024/11/COPERTINA-EVENTI.png
GEO:42.6228865;11.5403247
X-APPLE-STRUCTURED-LOCATION;VALUE=URI;X-ADDRESS=LA MALIOSA Fattoria La Maliosa - Natural Wines fraz. di Località Podere Monte Cavallo 58014 Saturnia GR Saturnia Grosseto 58014 Italia;X-APPLE-RADIUS=500;X-TITLE=Fattoria La Maliosa - Natural Wines\, fraz. di\, Località Podere Monte Cavallo\, 58014 Saturnia GR:geo:11.5403247,42.6228865
END:VEVENT
BEGIN:VEVENT
DTSTART;VALUE=DATE:20241201
DTEND;VALUE=DATE:20250101
DTSTAMP:20260421T230540
CREATED:20241126T135457Z
LAST-MODIFIED:20241126T135859Z
UID:10000657-1733011200-1735689599@www.mtvtoscana.com
SUMMARY:Cantine Aperte a Natale - FATTORIA DI PIAZZANO
DESCRIPTION:FATTORIA DI PIAZZANO\nVIA MAREMMANA  II° TRATTO \, 28 – 50053 EMPOLI (FIRENZE)\n+39 0571 994032  +39 3388235514   +39 3357849884   INFO@FATTORIADIPIAZZANO.IT \nWhen:Every day in December 2024 \nEvent: “Give a wine as a Christmas present” \n\nDURING THE WHOLE MONTH OF DECEMBER OUR CELLAR WILL BE OPEN TO \nWELCOME ALL THOSE WHO WANT TO COME AND BUY OUR WINES AND OIL\, TO TASTE AND CHOOSE THE BEST GIFT FOR THE HOLIDAYS. \n\nEvent also suitable for kids! \nReservation is required: Office +39 0571 994032   –   Email: info@fattoriadipiazzano.it
URL:https://www.mtvtoscana.com/en/evento/cantine-aperte-a-natale-fattoria-di-piazzano/
LOCATION:FATTORIA DI PIAZZANO\, Via Maremmana II tratto\, 28\, Empoli\, Firenze\, 50053\, Italia
CATEGORIES:CANTINE APERTE NATALE
ATTACH;FMTTYPE=image/png:https://www.mtvtoscana.com/wp-content/uploads/2024/11/COPERTINA-EVENTI.png
END:VEVENT
BEGIN:VEVENT
DTSTART;TZID=Europe/Rome:20241201T080000
DTEND;TZID=Europe/Rome:20241231T170000
DTSTAMP:20260421T230540
CREATED:20241121T154243Z
LAST-MODIFIED:20241121T154612Z
UID:10000560-1733040000-1735664400@www.mtvtoscana.com
SUMMARY:Cantine Aperte a Natale - TENUTA CAMPO AL SIGNORE
DESCRIPTION:TENUTA CAMPO AL SIGNORE\nlocalità Nocino\, 259/ B Castagneto Carducci (LI)\n0565 763200 – info@tenutacampoalsignore.it\nwww.tenutacampoalsignore.com\nEvent: Cantine Aperte a Natale: Wine & e Chocolate \nWhen: Every day in December only by reservation \n\nAfter a tour of our company\, both in the fields and in the cellar\, the tasting will take place in our dedicated room. \nA tasting of our 2 DOC Bolgheri Rosato and Rosso.\nTo conclude\, the tasting of our DOC Bolgheri Superiore paired with a handmade chocolate with a heart of Campo al Signore DOC Bolgheri Superiore inside\, created in collaboration with the historic Cioccolateria Catinari of Agliana. \nEvent also suitable for kids with a reduced price! \n\nReservation is required: 0565 763200 or info@tenutacampoalsignore.it\n\nPrice per person: ADULTS € 35\,00 / KIDS € 10\,00\n 
URL:https://www.mtvtoscana.com/en/evento/cantine-aperte-a-natale-tenuta-campo-al-signore/
LOCATION:TENUTA CAMPO AL SIGNORE\, Località Nocino 259/ B\, Castagneto Carducci\, Livorno\, 57022\, Italia
CATEGORIES:CANTINE APERTE NATALE
ATTACH;FMTTYPE=image/png:https://www.mtvtoscana.com/wp-content/uploads/2024/11/COPERTINA-EVENTI.png
END:VEVENT
BEGIN:VEVENT
DTSTART;TZID=Europe/Rome:20241206T080000
DTEND;TZID=Europe/Rome:20250107T170000
DTSTAMP:20260421T230540
CREATED:20241129T161848Z
LAST-MODIFIED:20241129T161900Z
UID:10000937-1733472000-1736269200@www.mtvtoscana.com
SUMMARY:Cantine Aperte a Natale - Vecchia Cantina di Montepulciano
DESCRIPTION:VECCHIA CANTINA DI MONTEPULCIANO\nVia Provinciale\, 7 Montepulciano 53045 (Siena)\n+ 39 335 5212004 / accoglienza@vecchiacantinadimontepulciano.com\nWhen: 6/7/8 December and from 20 December to 7 January excluding 25/26 December and 1 January \nEvent: Wine Tour for Christmas \n\n\n\nGuided wine tour followed by a tasting of top line wines plus vinsanto and vinsanto panettone. \nReservation is required + 39 335 5212004 \nPrice per person: 20€
URL:https://www.mtvtoscana.com/en/evento/cantine-aperte-a-natale-vecchia-cantina-di-montepulciano-2/
LOCATION:VECCHIA CANTINA DI MONTEPULCIANO\, Via Provinciale 7\, Montepulciano\, Siena\, 53045\, Italia
CATEGORIES:CANTINE APERTE NATALE
ATTACH;FMTTYPE=image/png:https://www.mtvtoscana.com/wp-content/uploads/2024/11/COPERTINA-EVENTI.png
END:VEVENT
END:VCALENDAR