BEGIN:VCALENDAR
VERSION:2.0
PRODID:-//MTV Toscana - ECPv6.3.3.1//NONSGML v1.0//EN
CALSCALE:GREGORIAN
METHOD:PUBLISH
X-ORIGINAL-URL:https://www.mtvtoscana.com/en/
X-WR-CALDESC:Events for MTV Toscana
REFRESH-INTERVAL;VALUE=DURATION:PT1H
X-Robots-Tag:noindex
X-PUBLISHED-TTL:PT1H
BEGIN:VTIMEZONE
TZID:Europe/Rome
BEGIN:DAYLIGHT
TZOFFSETFROM:+0100
TZOFFSETTO:+0200
TZNAME:CEST
DTSTART:20250330T010000
END:DAYLIGHT
BEGIN:STANDARD
TZOFFSETFROM:+0200
TZOFFSETTO:+0100
TZNAME:CET
DTSTART:20251026T010000
END:STANDARD
END:VTIMEZONE
BEGIN:VEVENT
DTSTART;VALUE=DATE:20251208
DTEND;VALUE=DATE:20251209
DTSTAMP:20260422T022735
CREATED:20251118T140357Z
LAST-MODIFIED:20251118T140620Z
UID:10004773-1765191600-1765216800@www.mtvtoscana.com
SUMMARY:CANTINE APERTE A NATALE - AZ. AGRICOLA CASTELVECCHIO
DESCRIPTION:AZIENDA AGRICOLA CASTELVECCHIO TERRICCIOLA\nVia di Bagno 56030 Terricciola (Pisa)\n+39 3803238845 – info@agricastelvecchio.com\nWhen: \n\n6\,7 and 8 December 2025\n13 and 14 December 2025\n20 and 21 December 2025\n27 and 28 December 2025\n\nEvent: Cantine Aperte for Christmas \n\n\n\nGuided tour of the winery followed by tasting of three wines paired with bread and oil produced by the company.\nThe times for visits to the cellar and tasting will take place at 11:00 am and 3:30 pm. \nEvent also suitable for kids! \nReservation is required: +39 3803238845 – info@agricastelvecchio.com \nPrice per person: free
URL:https://www.mtvtoscana.com/en/evento/cantine-aperte-a-natale-az-agricola-castelvecchio/2025-12-08/
LOCATION:AZIENDA AGRICOLA CASTELVECCHIO\, Via di Bagno\, Terricciola\, Pisa\, 56030\, Italia
CATEGORIES:CANTINE APERTE NATALE
ATTACH;FMTTYPE=image/png:https://www.mtvtoscana.com/wp-content/uploads/2025/11/COPERTINA-EVENTI.png
END:VEVENT
END:VCALENDAR