BEGIN:VCALENDAR
VERSION:2.0
PRODID:-//MTV Toscana - ECPv6.3.3.1//NONSGML v1.0//EN
CALSCALE:GREGORIAN
METHOD:PUBLISH
X-ORIGINAL-URL:https://www.mtvtoscana.com/en/
X-WR-CALDESC:Events for MTV Toscana
REFRESH-INTERVAL;VALUE=DURATION:PT1H
X-Robots-Tag:noindex
X-PUBLISHED-TTL:PT1H
BEGIN:VTIMEZONE
TZID:Europe/Rome
BEGIN:DAYLIGHT
TZOFFSETFROM:+0100
TZOFFSETTO:+0200
TZNAME:CEST
DTSTART:20250330T010000
END:DAYLIGHT
BEGIN:STANDARD
TZOFFSETFROM:+0200
TZOFFSETTO:+0100
TZNAME:CET
DTSTART:20251026T010000
END:STANDARD
END:VTIMEZONE
BEGIN:VEVENT
DTSTART;TZID=Europe/Rome:20251213T093000
DTEND;TZID=Europe/Rome:20251213T180000
DTSTAMP:20260422T022716
CREATED:20251202T145846Z
LAST-MODIFIED:20251202T150150Z
UID:10005811-1765618200-1765648800@www.mtvtoscana.com
SUMMARY:CANTINE APERTE A NATALE - GIANNI MOSCARDINI
DESCRIPTION:GIANNI MOSCARDINI\nVia Macchia al Pino snc\, 56040 Pomaia (PI)\nenoteca@giannimoscardini.com / +39 3476948938\nwww.giannimoscardini.com\nWhen: December 6\, December 13\, and December 20\, 2025 \nEvent: Christmas Market \nFor the three Saturdays in December\, we will open the doors of our cellar to welcome all wine lovers for the Christmas Market. \nOn the day of the Market\, in two time slots\, we will offer a guided tour\, culminating in a wine tasting. We will be happy to recommend the best wine for the holidays and for gifts. \nAnd for the little ones\, there will be a corner where they can have fun making Christmas cards and Christmas elves. \nHours: Market: Saturday 9:30 am – 6:00 pm / Guided tours: Saturday at 11:00 am and 2:30 pm \nThis event is also suitable for children!\nChildren will have access to a DIY corner\, where they can have fun making Christmas cards and Christmas elves. \nPrice per person: \nAdults: Winery tour and/or market: €15/person\nChildren: Free \nReservations are recommended for the Winery Tour\, which is available in two time slots: 11:00 AM and 2:30 PM. \nReservations are not required for participation in the Market. \nContacts: enoteca@giannimoscardini.com / +39 3476948937 \n\n\n\n\n\n 
URL:https://www.mtvtoscana.com/en/evento/cantine-aperte-a-natale-gianni-moscardini-2/2025-12-13/
LOCATION:GIANNI MOSCARDINI\, Via Macchia al Pino\, Pomaia\, Pisa\, 56040\, Italia
CATEGORIES:CANTINE APERTE NATALE
ATTACH;FMTTYPE=image/png:https://www.mtvtoscana.com/wp-content/uploads/2025/11/COPERTINA-EVENTI.png
END:VEVENT
BEGIN:VEVENT
DTSTART;VALUE=DATE:20251213
DTEND;VALUE=DATE:20251215
DTSTAMP:20260422T022716
CREATED:20251118T140357Z
LAST-MODIFIED:20251118T140620Z
UID:10004774-1765623600-1765735200@www.mtvtoscana.com
SUMMARY:CANTINE APERTE A NATALE - AZ. AGRICOLA CASTELVECCHIO
DESCRIPTION:AZIENDA AGRICOLA CASTELVECCHIO TERRICCIOLA\nVia di Bagno 56030 Terricciola (Pisa)\n+39 3803238845 – info@agricastelvecchio.com\nWhen: \n\n6\,7 and 8 December 2025\n13 and 14 December 2025\n20 and 21 December 2025\n27 and 28 December 2025\n\nEvent: Cantine Aperte for Christmas \n\n\n\nGuided tour of the winery followed by tasting of three wines paired with bread and oil produced by the company.\nThe times for visits to the cellar and tasting will take place at 11:00 am and 3:30 pm. \nEvent also suitable for kids! \nReservation is required: +39 3803238845 – info@agricastelvecchio.com \nPrice per person: free
URL:https://www.mtvtoscana.com/en/evento/cantine-aperte-a-natale-az-agricola-castelvecchio/2025-12-13/
LOCATION:AZIENDA AGRICOLA CASTELVECCHIO\, Via di Bagno\, Terricciola\, Pisa\, 56030\, Italia
CATEGORIES:CANTINE APERTE NATALE
ATTACH;FMTTYPE=image/png:https://www.mtvtoscana.com/wp-content/uploads/2025/11/COPERTINA-EVENTI.png
END:VEVENT
END:VCALENDAR